BEGIN:VCALENDAR
VERSION:2.0
PRODID:-//pretix//Veranstaltungsanmeldung//
BEGIN:VTIMEZONE
TZID:Europe/Berlin
BEGIN:STANDARD
DTSTART:20001029T040000
RRULE:FREQ=YEARLY;BYDAY=-1SU;BYMONTH=10
TZNAME:CET
TZOFFSETFROM:+0200
TZOFFSETTO:+0100
END:STANDARD
BEGIN:DAYLIGHT
DTSTART:20000326T030000
RRULE:FREQ=YEARLY;BYDAY=-1SU;BYMONTH=3
TZNAME:CEST
TZOFFSETFROM:+0100
TZOFFSETTO:+0200
END:DAYLIGHT
END:VTIMEZONE
BEGIN:VEVENT
UID:pretix-takt-kinderchor-0@veranstaltung.juze-cr.de
DTSTART;TZID=Europe/Berlin:20251002T163000
DTEND;TZID=Europe/Berlin:20251002T171500
DESCRIPTION:Tickets: https://veranstaltung.juze-cr.de/takt/kinderchor/\nVer
 anstalter: Takt e.V.
DTSTAMP:20260425T163308Z
LOCATION:Jugendzentrum Crailsheim\, 2. Stockwerk\, Schönebürgstr. 33\, 74
 564 Crailsheim
SUMMARY:Kinderchor im JuZe
END:VEVENT
END:VCALENDAR
