BEGIN:VCALENDAR
VERSION:2.0
PRODID:-//pretix//Veranstaltungsanmeldung//
BEGIN:VTIMEZONE
TZID:Europe/Berlin
BEGIN:STANDARD
DTSTART:20001029T040000
RRULE:FREQ=YEARLY;BYDAY=-1SU;BYMONTH=10
TZNAME:CET
TZOFFSETFROM:+0200
TZOFFSETTO:+0100
END:STANDARD
BEGIN:DAYLIGHT
DTSTART:20000326T030000
RRULE:FREQ=YEARLY;BYDAY=-1SU;BYMONTH=3
TZNAME:CEST
TZOFFSETFROM:+0100
TZOFFSETTO:+0200
END:DAYLIGHT
END:VTIMEZONE
BEGIN:VEVENT
UID:pretix-create-freiesmalen10-0@veranstaltung.juze-cr.de
DTSTART;TZID=Europe/Berlin:20250823T090000
DTEND;TZID=Europe/Berlin:20250823T113000
DESCRIPTION:Tickets: https://veranstaltung.juze-cr.de/create/freiesmalen10/
 \nVeranstalter: create
DTSTAMP:20260425T152458Z
LOCATION:Jugendzentrum Crailsheim\, 2. Stockwerk\, Schönebürgstr. 33\, 74
 564 Crailsheim
SUMMARY:Freies Malen Übungsgruppe
END:VEVENT
END:VCALENDAR
